BEGIN:VCALENDAR
VERSION:2.0
PRODID:-//eventon.com NONSGML v1.0//EN
CALSCALE:GREGORIAN
METHOD:PUBLISH
BEGIN:VEVENT
UID:69ece553cdf90
DTSTAMP:20260425T160123Z
DTSTART:20220610T060000Z
DTEND:20220610T120000Z
LOCATION:Crooked River Wines 11 Willowvale Road
SUMMARY:Winter Wine Festival @ Crooked River Wines
DESCRIPTION:The 2022 Winter Wine Festival will be held on the June long wee
 kend &#8211; 10th and 12th June. A FREE Friday night adults only sunset ses
 sion has now sold out\,  ahead of the massive line up for Saturday and Sund
 ay. The Friday night session will be headlined by Natalie Conway\, [..]\nht
 tps://berry.org.au/event/winter-wine-festival-crooked-river-wines-2022/
URL:https://berry.org.au/event/winter-wine-festival-crooked-river-wines-2022/
END:VEVENT
END:VCALENDAR