BEGIN:VCALENDAR
VERSION:2.0
PRODID:-//eventon.com NONSGML v1.0//EN
CALSCALE:GREGORIAN
METHOD:PUBLISH
BEGIN:VEVENT
UID:69e5f5e2cea32
DTSTAMP:20260420T094610Z
DTSTART:20230518T020000Z
DTEND:20230518T050000Z
LOCATION:Bangalay Dining 30 Staples Street\,  Shoalhaven Heads NSW 2535
SUMMARY:Lunch and conversation with Courtney Roulston at Bangalay Dining
DESCRIPTION:Bangalay Luxury Villas’s Michelle Bishop invites you to lunch
  and conversation with Courtney Roulston as part of the Shoalhaven Food Net
 work Autumn Celebration of Food. Courtney is a well known celebrity chef af
 ter being a finalist on Series 2 of MasterChef Australia 2010. She has also
  been the headchef for[..]\nhttps://berry.org.au/event/lunch-and-conversati
 on-with-courtney-roulston/
URL:https://berry.org.au/event/lunch-and-conversation-with-courtney-roulston/
END:VEVENT
END:VCALENDAR