BEGIN:VCALENDAR
VERSION:2.0
PRODID:-//eventon.com NONSGML v1.0//EN
CALSCALE:GREGORIAN
METHOD:PUBLISH
BEGIN:VEVENT
UID:69e5f704b8030
DTSTAMP:20260420T095100Z
DTSTART:20240314T083000Z
DTEND:20240314T125000Z
LOCATION:The Berry Hotel 120 Queen St\,  Berry NSW 2535
SUMMARY:80s Trivia Night @ The Berry Hotel
DESCRIPTION:Gather your friends and get ready to go back in time at our 80â
 €™s themed trivia night\,  Thursday March 14th from 7.30pm. Trivia is free 
 to play\,  with food and drink vouchers to be won. Book now (02) 4464 2292.
 \nhttps://berry.org.au/event/80s-trivia-night/
URL:https://berry.org.au/event/80s-trivia-night/
END:VEVENT
END:VCALENDAR