BEGIN:VCALENDAR
VERSION:2.0
PRODID:-//eventon.com NONSGML v1.0//EN
CALSCALE:GREGORIAN
METHOD:PUBLISH
BEGIN:VEVENT
UID:69ea0c95ef47d
DTSTAMP:20260423T121205Z
DTSTART:20260725
DTEND:20260726
LOCATION:Berry School of Arts 19 Alexandra Street
SUMMARY:Camellia & Floral Show
DESCRIPTION:The Camellia and Floral Show returns on Saturday\,  26th and Su
 nday\,  27th July! See the Berry School of Arts filled to the brim with a m
 agnificent array of camellias and other exquisite cut winter flowers. You c
 an even enter one of your own beautiful blooms and purchase camellia plants
  at[..]\nhttps://berry.org.au/event/camellia-floral-show-day-2026/
URL:https://berry.org.au/event/camellia-floral-show-day-2026/
END:VEVENT
END:VCALENDAR