BEGIN:VCALENDAR
VERSION:2.0
PRODID:-//eventon.com NONSGML v1.0//EN
CALSCALE:GREGORIAN
METHOD:PUBLISH
BEGIN:VEVENT
UID:69e744383a212
DTSTAMP:20260421T093240Z
DTSTART:20241229T020000Z
DTEND:20241229T040000Z
LOCATION:co.LAB A Collective 81 Queen St\,  Berry NSW 2535
SUMMARY:Silver Ring Stack Workshop
DESCRIPTION:This workshop is a 2 hour workshop where participants will be m
 aking THREE stacking rings. Workshops available Sunday 29th December 2024 1
 pm &#8211; 3pm and Sunday 5th January 2025 at 10am &#8211; 12pm. This is a 
 beginners taster workshop so no skills required to attend this class. We pr
 ovide tea[..]\nhttps://berry.org.au/event/silver-ring-stack-workshop/
URL:https://berry.org.au/event/silver-ring-stack-workshop/
END:VEVENT
END:VCALENDAR