BEGIN:VCALENDAR
VERSION:2.0
PRODID:-//eventon.com NONSGML v1.0//EN
CALSCALE:GREGORIAN
METHOD:PUBLISH
BEGIN:VEVENT
UID:69e90c3512b22
DTSTAMP:20260422T175813Z
DTSTART:20260425T020000Z
DTEND:20260425T135900Z
LOCATION:The Berry Hotel 120 Queen St\,  Berry NSW 2535
SUMMARY:Anzac Day 2up @ The Berry Hotel
DESCRIPTION:Raise a glass to commemorate Anzac Day at The Berry Hotel &#821
 1; with 2UP from 12PM\,  ice cold beer\,  cocktails + bistro open all day. 
 Book ahead to reserve your table.\nhttps://berry.org.au/event/anzac-day-2up
 -the-berry-hotel/
URL:https://berry.org.au/event/anzac-day-2up-the-berry-hotel/
END:VEVENT
END:VCALENDAR