BEGIN:VCALENDAR
VERSION:2.0
PRODID:-//eventon.com NONSGML v1.0//EN
CALSCALE:GREGORIAN
METHOD:PUBLISH
BEGIN:VEVENT
UID:69e5f614230af
DTSTAMP:20260420T094700Z
DTSTART:20250906T090000Z
DTEND:20250906T135000Z
LOCATION:Great Southern Hotel 95 Queen Street\,  Berry NSW 2535
SUMMARY:Spin City DJs @ Great Southern Hotel
DESCRIPTION:Your Saturday nights just found their groove! Each week The Gre
 at Southern Hotel Berry will host a fun-filled night of dancing\,  good vib
 es\,  and top local DJs spinning everything from funky vinyl to high-energy
  house. Whether you&#8217;re here to dance or just soak up the atmosphere\,
   there’s something for everyone.[..]\nhttps://berry.org.au/event/spin-ci
 ty-djs-great-southern-hotel/
URL:https://berry.org.au/event/spin-city-djs-great-southern-hotel/
END:VEVENT
END:VCALENDAR