BEGIN:VCALENDAR
VERSION:2.0
PRODID:-//eventon.com NONSGML v1.0//EN
CALSCALE:GREGORIAN
METHOD:PUBLISH
BEGIN:VEVENT
UID:69e6184fa7671
DTSTAMP:20260420T121303Z
DTSTART:20250709T070000Z
DTEND:20250709T090000Z
LOCATION:The Heads Hotel 51 River Road Shoalhaven Heads NSW 2535
SUMMARY:Kids Disco @ Heads Hotel
DESCRIPTION:\nhttps://berry.org.au/event/kids-disco-heads-hotel/
URL:https://berry.org.au/event/kids-disco-heads-hotel/
END:VEVENT
END:VCALENDAR