BEGIN:VCALENDAR
VERSION:2.0
PRODID:-//eventon.com NONSGML v1.0//EN
CALSCALE:GREGORIAN
METHOD:PUBLISH
BEGIN:VEVENT
UID:69e74468951dc
DTSTAMP:20260421T093328Z
DTSTART:20250802T040000Z
DTEND:20250802T060000Z
LOCATION:Wesley Hall 71-77 Albert St\,  Berry NSW 2535\,  Australia
SUMMARY:The Water Runners
DESCRIPTION:\nhttps://berry.org.au/event/the-water-runners/
URL:https://berry.org.au/event/the-water-runners/
END:VEVENT
END:VCALENDAR