BEGIN:VCALENDAR
VERSION:2.0
PRODID:-//eventon.com NONSGML v1.0//EN
CALSCALE:GREGORIAN
METHOD:PUBLISH
BEGIN:VEVENT
UID:69e5e8332332b
DTSTAMP:20260420T084747Z
DTSTART:20260320T230000Z
DTEND:20260322T050000Z
LOCATION:81c Jorgenson Lane Bellawongarah 81c Jorgenson Lane\,  Bellawongarah
SUMMARY:2-Day Landscape Painting Workshop with Lana Daubermann
DESCRIPTION:Join Lana Daubermann for a weekend workshop\,  Interpreting the
  Landscape\,  in scenic Berry. Explore landscape painting through en plein 
 air and studio sessions\,  focusing on colour\,  composition\,  mark-making
 \,  and loosening brushstrokes. Lana will guide you with exercises to balan
 ce intuition and analysis in your work. Suitable for beginners with some[..
 ]\nhttps://berry.org.au/event/2-day-landscape-painting-workshop-with-lana-d
 aubermann/
URL:https://berry.org.au/event/2-day-landscape-painting-workshop-with-lana-daubermann/
END:VEVENT
END:VCALENDAR