BEGIN:VCALENDAR
VERSION:2.0
PRODID:-//eventon.com NONSGML v1.0//EN
CALSCALE:GREGORIAN
METHOD:PUBLISH
BEGIN:VEVENT
UID:69e73188544b5
DTSTAMP:20260421T081256Z
DTSTART:20260228T210000Z
DTEND:20260301T030000Z
LOCATION:Berry Showground Corner Alexandra and Victoria Streets\,  Berry NSW 2535
SUMMARY:Berry Markets
DESCRIPTION:Come and shop at the South Coast&#8217;s largest monthly outdoo
 r market! Held on the first Sunday of every month except February\,  Berry
  Markets hosts approximately 200 stalls offering a range of arts and crafts
 \,  locally grown vegetables and produce\,  collectables\,  books\,  plants
 \,  leather goods\,  clothing and many other interesting stalls to[..]\nhtt
 ps://berry.org.au/event/berry-markets-2026/
URL:https://berry.org.au/event/berry-markets-2026/
END:VEVENT
END:VCALENDAR