BEGIN:VCALENDAR
VERSION:2.0
PRODID:-//eventon.com NONSGML v1.0//EN
CALSCALE:GREGORIAN
METHOD:PUBLISH
BEGIN:VEVENT
UID:69e90c270988f
DTSTAMP:20260422T175759Z
DTSTART:20260514T090000Z
DTEND:20260514T135900Z
LOCATION:The Berry Hotel 120 Queen St\,  Berry NSW 2535
SUMMARY:'Confetti and Chaos' Dining Experience
DESCRIPTION:It was meant to be a surprise party to celebrate Will and Stace
 y’s wedding\,  but it’s turned into pandemonium – with secrets spilli
 ng out as uninvited and misbehaving family members bust in\,  bust up and b
 ust a move. Audiences become guests caught in the crossfire in this totally
  immersive and[..]\nhttps://berry.org.au/event/confetti-and-chaos-dining-ex
 perience/
URL:https://berry.org.au/event/confetti-and-chaos-dining-experience/
END:VEVENT
END:VCALENDAR