BEGIN:VCALENDAR
VERSION:2.0
PRODID:-//eventon.com NONSGML v1.0//EN
CALSCALE:GREGORIAN
METHOD:PUBLISH
BEGIN:VEVENT
UID:69e77f6e81664
DTSTAMP:20260421T134518Z
DTSTART:20251008T230000Z
DTEND:20251009T044500Z
LOCATION:The Treat Factory Old Creamery Lane\,  Berry NSW 2535
SUMMARY:DIY Giant Chocolate Freckle Workshop @ The Treat Factory
DESCRIPTION:Choose between luscious milk or rich dark Belgian Chocolate as 
 the base for your Giant Freckle masterpiece then let your tastebuds have fu
 n. Choose from freeze-dried strawberries\,  almonds\,  hazelnuts\,  rose pe
 tals\,  Turkish delight\,  glazed orange\,  mini marshmallows\,  party mix\
 ,  pretzels\,  caramel popcorn\,  sprinkles\,  and more\,  you’ll have th
 e freedom to[..]\nhttps://berry.org.au/event/diy-giant-chocolate-freckle-wo
 rkshop-the-treat-factory-oct-9/
URL:https://berry.org.au/event/diy-giant-chocolate-freckle-workshop-the-treat-factory-oct-9/
END:VEVENT
END:VCALENDAR