BEGIN:VCALENDAR
VERSION:2.0
PRODID:-//eventon.com NONSGML v1.0//EN
CALSCALE:GREGORIAN
METHOD:PUBLISH
BEGIN:VEVENT
UID:69e59cd05713d
DTSTAMP:20260420T032608Z
DTSTART:20251025
DTEND:20251026
LOCATION:Broughton Court
SUMMARY:Pink Up Berry Street Stall
DESCRIPTION:Pink Up Berry&#8217;s annual Street Stall will be on Saturday 2
 5th October in Broughton Court. Grab some yummy homemade cakes and biscuits
 \,  jams\,  pickles etc and local craft plus raffle tickets!\nhttps://berry
 .org.au/event/pink-up-berry-street-stall/
URL:https://berry.org.au/event/pink-up-berry-street-stall/
END:VEVENT
END:VCALENDAR