BEGIN:VCALENDAR
VERSION:2.0
PRODID:-//eventon.com NONSGML v1.0//EN
CALSCALE:GREGORIAN
METHOD:PUBLISH
BEGIN:VEVENT
UID:69e745ecae6ce
DTSTAMP:20260421T093956Z
DTSTART:20251016T200000Z
DTEND:20251112T150000Z
LOCATION:The Garden Berry 103 Queen Street
SUMMARY:Kathy Karas Exhibition 'Cafe Culture' @ The Garden Berry
DESCRIPTION:   \nhttps://berry.org.au/event/kathy-karas-exhibition-cafe-c
 ulture-the-garden-berry/
URL:https://berry.org.au/event/kathy-karas-exhibition-cafe-culture-the-garden-berry/
END:VEVENT
END:VCALENDAR