BEGIN:VCALENDAR
VERSION:2.0
PRODID:-//eventon.com NONSGML v1.0//EN
CALSCALE:GREGORIAN
METHOD:PUBLISH
BEGIN:VEVENT
UID:69e745eed77ff
DTSTAMP:20260421T093958Z
DTSTART:20260228T010000Z
DTEND:20260228T125900Z
LOCATION:Great Southern Hotel 95 Queen Street\,  Berry NSW 2535
SUMMARY:Deck Sessions @ Great Southern Hotel Berry
DESCRIPTION:Enjoy live music\,  outdoor activities\,  summer drink specials
  and the hotel’s signature Great Southern hospitality\,  best soaked up i
 n the sunshine with a cold drink in hand. What’s on: Open air DJs 2PM &#8
 211; 11PM $14 summer cocktails | Pop up deck bar | Stone &amp; Wood buckets
  on ice[..]\nhttps://berry.org.au/event/deck-sessions-great-southern-hotel-
 berry-28-feb/
URL:https://berry.org.au/event/deck-sessions-great-southern-hotel-berry-28-feb/
END:VEVENT
END:VCALENDAR