BEGIN:VCALENDAR
VERSION:2.0
PRODID:-//eventon.com NONSGML v1.0//EN
CALSCALE:GREGORIAN
METHOD:PUBLISH
BEGIN:VEVENT
UID:69e5e57092228
DTSTAMP:20260420T083600Z
DTSTART:20260508T033000Z
DTEND:20260508T050000Z
LOCATION:The Treat Factory Old Creamery Lane\,  Berry NSW 2535
SUMMARY:DIY Chocolate Box Workshop – Mothers Day Edition @ The Treat Factory
DESCRIPTION:Looking for a Mother’s Day experience that’s thoughtful\,  
 memorable and delicious? Join us at The Treat Factory for a hands-on chocol
 ate workshop designed especially for mums and children to enjoy together. C
 reate\,  taste and share a relaxed afternoon of chocolate-making\,  then ta
 ke home a beautifully presented box of Belgian chocolates[..]\nhttps://berr
 y.org.au/event/diy-chocolate-box-workshop-mothers-day-edition-the-treat-fac
 tory/
URL:https://berry.org.au/event/diy-chocolate-box-workshop-mothers-day-edition-the-treat-factory/
END:VEVENT
END:VCALENDAR