BEGIN:VCALENDAR
VERSION:2.0
PRODID:-//eventon.com NONSGML v1.0//EN
CALSCALE:GREGORIAN
METHOD:PUBLISH
BEGIN:VEVENT
UID:69e886b2c0d73
DTSTAMP:20260422T082834Z
DTSTART:20260304T210000Z
DTEND:20260331T040000Z
LOCATION:The Garden Berry 103 Queen Street
SUMMARY:Rebecca Brennan Exhibition 'Tracks & Tide Lines' @ The Garden Berry
DESCRIPTION:The Garden Berry is set to welcome Tracks &amp; Tide Lines to t
 heir dining room this March – a new exhibition of recent paintings and dr
 awings by award-winning artist Rebecca Brennan. Inspired by ocean pools\,  
 white cockatoos and the mist covered escarpment\,  her richly textured oils
  celebrate the beauty of[..]\nhttps://berry.org.au/event/rebecca-brennan-ex
 hibition-tracks-tide-lines-the-garden-berry/
URL:https://berry.org.au/event/rebecca-brennan-exhibition-tracks-tide-lines-the-garden-berry/
END:VEVENT
END:VCALENDAR