BEGIN:VCALENDAR
VERSION:2.0
PRODID:-//eventon.com NONSGML v1.0//EN
CALSCALE:GREGORIAN
METHOD:PUBLISH
BEGIN:VEVENT
UID:69ea1ff322fbd
DTSTAMP:20260423T133443Z
DTSTART:20260530
DTEND:20260531
LOCATION:Bundanon 170 Riversdale Road\,  Illaroo NSW 2540
SUMMARY:Make Good Festival @ Bundanon
DESCRIPTION:Bundanon’s Make Good Festival returns in 2026 with a dynamic 
 program celebrating creativity\,  ideas and meaningful action. Bringing tog
 ether an inspiring mix of artists\,  authors and forward thinkers\,  the fe
 stival features more than 30 events across talks\,  workshops\,  performanc
 es and hands-on experiences. Set against the striking landscape of Bundanon
 \,  the[..]\nhttps://berry.org.au/event/make-good-festival-bundanon-2026/
URL:https://berry.org.au/event/make-good-festival-bundanon-2026/
END:VEVENT
END:VCALENDAR