BEGIN:VCALENDAR
VERSION:2.0
PRODID:-//eventon.com NONSGML v1.0//EN
CALSCALE:GREGORIAN
METHOD:PUBLISH
BEGIN:VEVENT
UID:69ea1ff32055b
DTSTAMP:20260423T133443Z
DTSTART:20260508T070000Z
DTEND:20260508T093000Z
LOCATION:Bangalay Dining 30 Staples Street\,  Shoalhaven Heads NSW 2535
SUMMARY:Autumn Flavours with Iain Smart @ Bangalay Dining
DESCRIPTION:Bangalay is honoured to join the Shoalhaven Food Network showca
 sing the diversity and the quality of our hospitality industry in the Shoal
 haven with the annual &#8216;Autumn Celebration of Food&#8217;. Pre dinner 
 drinks and entertainment from 5pm\,  followed by a seasonal three-course me
 nu\,  served with house-made bread. Perfect for food lovers[..]\nhttps://be
 rry.org.au/event/autumn-flavours-with-iain-smart-bangalay-dining/
URL:https://berry.org.au/event/autumn-flavours-with-iain-smart-bangalay-dining/
END:VEVENT
END:VCALENDAR