BEGIN:VCALENDAR
VERSION:2.0
PRODID:-//eventon.com NONSGML v1.0//EN
CALSCALE:GREGORIAN
METHOD:PUBLISH
BEGIN:VEVENT
UID:69ea0c9778b80
DTSTAMP:20260423T121207Z
DTSTART:20260529T070000Z
DTEND:20260529T093000Z
LOCATION:Bangalay Dining 30 Staples Street\,  Shoalhaven Heads NSW 2535
SUMMARY:Winter Flavours with Simon Furley @ Bangalay Dining
DESCRIPTION:Join us at Bangalay Dining for an evening celebrating the flavo
 urs of winter with Executive Chef Simon Furley. Guided by his philosophy of
  conscious cooking\,  Simon presents contemporary\,  natural dishes that ho
 nour local ingredients\,  minimise waste and reflect the character of the S
 outh Coast. The evening begins from 5pm with[..]\nhttps://berry.org.au/even
 t/winter-flavours-with-simon-furley-bangalay-dining/
URL:https://berry.org.au/event/winter-flavours-with-simon-furley-bangalay-dining/
END:VEVENT
END:VCALENDAR