BEGIN:VCALENDAR
VERSION:2.0
PRODID:-//eventon.com NONSGML v1.0//EN
CALSCALE:GREGORIAN
METHOD:PUBLISH
BEGIN:VEVENT
UID:69ea0c496258d
DTSTAMP:20260423T121049Z
DTSTART:20260524
DTEND:20260525
LOCATION:
SUMMARY:A Day Well Spent – Indie
DESCRIPTION:Our music-led event series A Day Well Spent returns with an Ind
 ie-themed weekend across Thursday 21 May and Sunday 24 May\,  bringing live
  performances into venues across town. Building on the energy of earlier ev
 ents\,  the Indie edition will see a fresh line-up of artists take over Ber
 ry’s favourite local[..]\nhttps://berry.org.au/event/a-day-well-spent-ind
 ie/var/ri-1.l-L1
URL:https://berry.org.au/event/a-day-well-spent-indie/var/ri-1.l-L1
END:VEVENT
END:VCALENDAR