BEGIN:VCALENDAR
VERSION:2.0
PRODID:-//eventon.com NONSGML v1.0//EN
CALSCALE:GREGORIAN
METHOD:PUBLISH
BEGIN:VEVENT
UID:69e90c3512ad2
DTSTAMP:20260422T175813Z
DTSTART:20260501T113000Z
DTEND:20260509T193000Z
LOCATION:The Berry Hotel 120 Queen St\,  Berry NSW 2535
SUMMARY:Cinco de Mayo @ The Berry Hotel
DESCRIPTION:Celebrate Cinco de Mayo at The Berry Hotel from 1 – 9 May wit
 h a week-long fiesta of bold flavours and lively atmosphere in the heart of
  town. Expect Mexican-inspired specials running throughout the week\,  incl
 uding $12 margaritas every day\,  $15 nachos for lunch Monday to Friday\,  
 and $15 Taco[..]\nhttps://berry.org.au/event/cinco-de-mayo-the-berry-hotel/
URL:https://berry.org.au/event/cinco-de-mayo-the-berry-hotel/
END:VEVENT
END:VCALENDAR