BEGIN:VCALENDAR
VERSION:2.0
PRODID:-//eventon.com NONSGML v1.0//EN
CALSCALE:GREGORIAN
METHOD:PUBLISH
BEGIN:VEVENT
UID:69ea1feb34ddb
DTSTAMP:20260423T133435Z
DTSTART:20260510T000000Z
DTEND:20260510T060000Z
LOCATION:David Collins Pottery Studio 476 Woodhill Mountain Road\,  Woodhill (near Berry) NSW 2535
SUMMARY:David Collins Pottery - Open Studio
DESCRIPTION:Take a scenic drive up Woodhill Mountain and discover the work 
 of local ceramicist David Collins\,  opening his studio to visitors across 
 the weekend of 9 – 10 May\,  from 10am to 4pm each day. This relaxed open
  studio offers a chance to explore a wide range of handcrafted pieces\, [..
 ]\nhttps://berry.org.au/event/david-collins-pottery-open-studio-may-2026/va
 r/ri-1.l-L1
URL:https://berry.org.au/event/david-collins-pottery-open-studio-may-2026/var/ri-1.l-L1
END:VEVENT
END:VCALENDAR