BEGIN:VCALENDAR
VERSION:2.0
PRODID:-//eventon.com NONSGML v1.0//EN
CALSCALE:GREGORIAN
METHOD:PUBLISH
BEGIN:VEVENT
UID:69e8860873747
DTSTAMP:20260422T082544Z
DTSTART:20170402T080000Z
DTEND:20170402T020000Z
LOCATION:Berry Showground Grandstand Albany Street\,  Berry
SUMMARY:Zonta's Pre-Loved Clothing Sale
DESCRIPTION:This is it folks &#8230; Zonta&#8217;s super Pre-Loved Clothing
  Sale! There&#8217;s sure to be a crowd of shoppers who are looking for th
 e unusual\,  vintage\,  recycled\,  used lightly\,  cared for deeply clothi
 ng that has done it&#8217;s time with its current owner &amp; is moving on.
  Zonta&#8217;s tip &#8230; arriving early is[..]\nhttps://berry.org.au/even
 t/zontas-pre-loved-clothing-sale/
URL:https://berry.org.au/event/zontas-pre-loved-clothing-sale/
END:VEVENT
END:VCALENDAR