BEGIN:VCALENDAR
VERSION:2.0
PRODID:-//eventon.com NONSGML v1.0//EN
CALSCALE:GREGORIAN
METHOD:PUBLISH
BEGIN:VEVENT
UID:69e629f608012
DTSTAMP:20260420T132822Z
DTSTART:20170429T100000Z
DTEND:20170429T150000Z
LOCATION:Berry NSW
SUMMARY:Crystal Healing Oracle Workshop
DESCRIPTION:Join Rachelle Charman to discover how to read the cards\,  expa
 nd your intuition and enhance your healing and deepen your connection with 
 the crystal kingdom. Special offer: Pre-purchase any two items from Rachel
 le&#8217;s range from Global Contact before the event and attend for half p
 rice.\nhttps://berry.org.au/event/crystal-healing-oracle-workshop/
URL:https://berry.org.au/event/crystal-healing-oracle-workshop/
END:VEVENT
END:VCALENDAR