BEGIN:VCALENDAR
VERSION:2.0
PRODID:-//eventon.com NONSGML v1.0//EN
CALSCALE:GREGORIAN
METHOD:PUBLISH
BEGIN:VEVENT
UID:69eb8deb03982
DTSTAMP:20260424T153611Z
DTSTART:20180318T140000Z
DTEND:20180318T160000Z
LOCATION:Berry School of Arts 19 Alexandra Street
SUMMARY:Steel City Strings
DESCRIPTION:We are proud to present orchestral arrangements of two of the m
 ost loved string quartets of the romantic repertoire – Dvorak String Quar
 tet No. 12 known as the “American” and Mendelssohn String Quartet No. 2
 .  The program will be balanced with Sad Jigs by local composer Andrew For
 d. This music[..]\nhttps://berry.org.au/event/steel-city-strings-march-2018
 /
URL:https://berry.org.au/event/steel-city-strings-march-2018/
END:VEVENT
END:VCALENDAR