BEGIN:VCALENDAR
VERSION:2.0
PRODID:-//eventon.com NONSGML v1.0//EN
CALSCALE:GREGORIAN
METHOD:PUBLISH
BEGIN:VEVENT
UID:69e74468788db
DTSTAMP:20260421T093328Z
DTSTART:20180601T190000Z
DTEND:20180601T235000Z
LOCATION:Berry Uniting Church Hall 77 Albert Street\,  Berry NSW 2535
SUMMARY:BOCCHERINI’S GUITAR
DESCRIPTION:Be transported to Spain with a host of latin-inspired works inc
 luding Boccherini’s Fandango\,  Canales’ String Quartet and Haydn’s S
 even Last Words. The Ensemble welcomes classical period guitarist Simon Mar
 tyn-Ellis as our special guest featuring in Boccherini’s Fandango Quintet
 . Although Italian\,  Boccherini’s years living in Spain inspired this fi
 ery and exciting[..]\nhttps://berry.org.au/event/boccherinis-guitar/
URL:https://berry.org.au/event/boccherinis-guitar/
END:VEVENT
END:VCALENDAR