BEGIN:VCALENDAR
VERSION:2.0
PRODID:-//eventon.com NONSGML v1.0//EN
CALSCALE:GREGORIAN
METHOD:PUBLISH
BEGIN:VEVENT
UID:69e885d126e51
DTSTAMP:20260422T082449Z
DTSTART:20180830T193000Z
DTEND:20180830T213000Z
LOCATION:Berry School of Arts 19 Alexandra Street
SUMMARY:Children's Book Illustration Lecture with John Ericson
DESCRIPTION:John Ericson is a former university lecturer who has developed 
 a particular interest in presentation skills including the role of pictures
  in learning and the appropriate use of PowerPoint. His talks are well-illu
 strated and presented with warmth and humour. Children’s Book Illustratio
 n will examine how illustrations contribute to the development[..]\nhttps:/
 /berry.org.au/event/childrens-book-illustration-lecture-with-john-ericson/
URL:https://berry.org.au/event/childrens-book-illustration-lecture-with-john-ericson/
END:VEVENT
END:VCALENDAR