BEGIN:VCALENDAR
VERSION:2.0
PRODID:-//eventon.com NONSGML v1.0//EN
CALSCALE:GREGORIAN
METHOD:PUBLISH
BEGIN:VEVENT
UID:69e4ecfbbfa50
DTSTAMP:20260419T145555Z
DTSTART:20190419T100000Z
DTEND:20190419T160000Z
LOCATION:Berry School of Arts 19 Alexandra Street
SUMMARY:Shoalhaven Art Society Exhibition
DESCRIPTION:\nhttps://berry.org.au/event/shoalhaven-art-society-exhibition/
URL:https://berry.org.au/event/shoalhaven-art-society-exhibition/
END:VEVENT
END:VCALENDAR