BEGIN:VCALENDAR
VERSION:2.0
PRODID:-//eventon.com NONSGML v1.0//EN
CALSCALE:GREGORIAN
METHOD:PUBLISH
BEGIN:VEVENT
UID:69e745ca7ef59
DTSTAMP:20260421T093922Z
DTSTART:20190422T100000Z
DTEND:20190422T160000Z
LOCATION:Berry School of Arts 19 Alexandra Street
SUMMARY:Shoalhaven Art Society Exhibition
DESCRIPTION:\nhttps://berry.org.au/event/shoalhaven-art-society-exhibition/
 var/ri-3.l-L1
URL:https://berry.org.au/event/shoalhaven-art-society-exhibition/var/ri-3.l-L1
END:VEVENT
END:VCALENDAR