BEGIN:VCALENDAR
VERSION:2.0
PRODID:-//eventon.com NONSGML v1.0//EN
CALSCALE:GREGORIAN
METHOD:PUBLISH
BEGIN:VEVENT
UID:69ea0c4a83c74
DTSTAMP:20260423T121050Z
DTSTART:20260425T001500Z
DTEND:20260425T020000Z
LOCATION:
SUMMARY:Anzac Day Parade and Memorial Service
DESCRIPTION:Berry ANZAC Day Commemorations include a March from Apex Park t
 o the Memorial Park\,  via Queen and Alexandra St\,  commencing at approx.1
 0:15am\,  followed by a service at Memorial Park\,  near the railway statio
 n from 10:45am All participants are requested to be ready prior to 10:15am\
 ,  meeting at the cnr of[..]\nhttps://berry.org.au/event/anzac-day/
URL:https://berry.org.au/event/anzac-day/
END:VEVENT
END:VCALENDAR